BEGIN:VCALENDAR
VERSION:2.0
PRODID:-//wp-events-plugin.com//7.2.3.1//EN
TZID:Europe/Brussels
X-WR-TIMEZONE:Europe/Brussels
BEGIN:VEVENT
UID:291@ec-sart.be
DTSTART;TZID=Europe/Brussels:20251205T090000
DTEND;TZID=Europe/Brussels:20251205T120000
DTSTAMP:20251015T070417Z
URL:https://ec-sart.be/evenements/saint-nicolas/
SUMMARY:Saint-Nicolas
DESCRIPTION:Le vendredi 5 décembre 2025\, nos petites têtes blondes auron
 t le plaisir d'accueillir Saint-Nicolas au sein de l'école.
ATTACH;FMTTYPE=image/jpeg:https://ec-sart.be/wp-content/uploads/2025/10/Sa
 int-nicolas.jpg
CATEGORIES:Fête
END:VEVENT
BEGIN:VTIMEZONE
TZID:Europe/Brussels
X-LIC-LOCATION:Europe/Brussels
BEGIN:STANDARD
DTSTART:20251026T020000
TZOFFSETFROM:+0200
TZOFFSETTO:+0100
TZNAME:CET
END:STANDARD
END:VTIMEZONE
END:VCALENDAR