BEGIN:VCALENDAR
VERSION:2.0
PRODID:-//wp-events-plugin.com//7.2.3.1//EN
TZID:Europe/Brussels
X-WR-TIMEZONE:Europe/Brussels
BEGIN:VEVENT
UID:286@ec-sart.be
DTSTART;TZID=Europe/Brussels;VALUE=DATE:20230703
DTEND;TZID=Europe/Brussels;VALUE=DATE:20230704
DTSTAMP:20230320T102516Z
URL:https://ec-sart.be/evenements/remise-des-bulletins-en-primaire/
SUMMARY:Remise des bulletins en primaire
DESCRIPTION:
CATEGORIES:Bulletins
END:VEVENT
BEGIN:VTIMEZONE
TZID:Europe/Brussels
X-LIC-LOCATION:Europe/Brussels
BEGIN:DAYLIGHT
DTSTART:20230326T030000
TZOFFSETFROM:+0100
TZOFFSETTO:+0200
TZNAME:CEST
END:DAYLIGHT
END:VTIMEZONE
END:VCALENDAR