BEGIN:VCALENDAR
VERSION:2.0
PRODID:-//wp-events-plugin.com//7.2.3.1//EN
TZID:Europe/Brussels
X-WR-TIMEZONE:Europe/Brussels
BEGIN:VEVENT
UID:271@ec-sart.be
DTSTART;TZID=Europe/Brussels;VALUE=DATE:20230529
DTEND;TZID=Europe/Brussels;VALUE=DATE:20230530
DTSTAMP:20220902T081125Z
URL:https://ec-sart.be/evenements/lundi-de-pentecote-2/
SUMMARY:Lundi de Pentecôte
DESCRIPTION:
CATEGORIES:Congé
END:VEVENT
BEGIN:VTIMEZONE
TZID:Europe/Brussels
X-LIC-LOCATION:Europe/Brussels
BEGIN:DAYLIGHT
DTSTART:20230326T030000
TZOFFSETFROM:+0100
TZOFFSETTO:+0200
TZNAME:CEST
END:DAYLIGHT
END:VTIMEZONE
END:VCALENDAR