BEGIN:VCALENDAR
VERSION:2.0
PRODID:-//wp-events-plugin.com//7.2.3.1//EN
TZID:Europe/Brussels
X-WR-TIMEZONE:Europe/Brussels
BEGIN:VEVENT
UID:245@ec-sart.be
DTSTART;TZID=Europe/Brussels;VALUE=DATE:20210504
DTEND;TZID=Europe/Brussels;VALUE=DATE:20210505
DTSTAMP:20201012T074308Z
URL:https://ec-sart.be/evenements/journee-sportive-pour-les-1eres-maternel
 les/
SUMMARY:Journée sportive pour les 1ères maternelles
DESCRIPTION:
CATEGORIES:Journée sportive
LOCATION:Centre Sprotif de Blocry\, Rue des sports\, Ottignies Louvain-la-n
 euve\, Région Wallonne\, 1348\, Belgique
GEO:50.6702009;4.602788099999998
X-APPLE-STRUCTURED-LOCATION;VALUE=URI;X-ADDRESS=Rue des sports\, Ottignies 
 Louvain-la-neuve\, Région Wallonne\, 1348\, Belgique;X-APPLE-RADIUS=100;X
 -TITLE=Centre Sprotif de Blocry:geo:50.6702009,4.602788099999998
END:VEVENT
BEGIN:VTIMEZONE
TZID:Europe/Brussels
X-LIC-LOCATION:Europe/Brussels
BEGIN:DAYLIGHT
DTSTART:20210328T030000
TZOFFSETFROM:+0100
TZOFFSETTO:+0200
TZNAME:CEST
END:DAYLIGHT
END:VTIMEZONE
END:VCALENDAR