BEGIN:VCALENDAR
VERSION:2.0
PRODID:-//wp-events-plugin.com//7.2.3.1//EN
TZID:Europe/Brussels
X-WR-TIMEZONE:Europe/Brussels
BEGIN:VEVENT
UID:280@ec-sart.be
DTSTART;TZID=Europe/Brussels;VALUE=DATE:20230704
DTEND;TZID=Europe/Brussels;VALUE=DATE:20230705
DTSTAMP:20230320T100111Z
URL:https://ec-sart.be/evenements/journee-sportive-a-lecole-avec-promospor
 t-p1-p2/
SUMMARY:Journée sportive à l'école avec Promosport - P1 + P2
DESCRIPTION:
CATEGORIES:Journée sportive
END:VEVENT
BEGIN:VTIMEZONE
TZID:Europe/Brussels
X-LIC-LOCATION:Europe/Brussels
BEGIN:DAYLIGHT
DTSTART:20230326T030000
TZOFFSETFROM:+0100
TZOFFSETTO:+0200
TZNAME:CEST
END:DAYLIGHT
END:VTIMEZONE
END:VCALENDAR