BEGIN:VCALENDAR
VERSION:2.0
PRODID:-//wp-events-plugin.com//7.2.3.1//EN
TZID:Europe/Brussels
X-WR-TIMEZONE:Europe/Brussels
BEGIN:VEVENT
UID:279@ec-sart.be
DTSTART;TZID=Europe/Brussels;VALUE=DATE:20230706
DTEND;TZID=Europe/Brussels;VALUE=DATE:20230707
DTSTAMP:20230320T095858Z
URL:https://ec-sart.be/evenements/journee-sportive-a-lecole-avec-promospor
 t-m2-m3/
SUMMARY:Journée sportive à l'école avec Promosport - M2 + M3
DESCRIPTION:
CATEGORIES:Journée sportive
END:VEVENT
BEGIN:VTIMEZONE
TZID:Europe/Brussels
X-LIC-LOCATION:Europe/Brussels
BEGIN:DAYLIGHT
DTSTART:20230326T030000
TZOFFSETFROM:+0100
TZOFFSETTO:+0200
TZNAME:CEST
END:DAYLIGHT
END:VTIMEZONE
END:VCALENDAR