BEGIN:VCALENDAR
VERSION:2.0
PRODID:-//wp-events-plugin.com//7.2.3.1//EN
TZID:Europe/Brussels
X-WR-TIMEZONE:Europe/Brussels
BEGIN:VEVENT
UID:107@ec-sart.be
DTSTART;TZID=Europe/Brussels;VALUE=DATE:20230308
DTEND;TZID=Europe/Brussels;VALUE=DATE:20230309
DTSTAMP:20180703T163046Z
URL:https://ec-sart.be/evenements/journee-internationale-des-droits-des-fe
 mmes-2023-03-08/
SUMMARY:Journée internationale des droits des femmes
DESCRIPTION:
CATEGORIES:Journée internationale
END:VEVENT
BEGIN:VTIMEZONE
TZID:Europe/Brussels
X-LIC-LOCATION:Europe/Brussels
BEGIN:STANDARD
DTSTART:20221030T020000
TZOFFSETFROM:+0200
TZOFFSETTO:+0100
TZNAME:CET
END:STANDARD
END:VTIMEZONE
END:VCALENDAR