BEGIN:VCALENDAR
VERSION:2.0
PRODID:-//wp-events-plugin.com//7.2.3.1//EN
TZID:Europe/Brussels
X-WR-TIMEZONE:Europe/Brussels
BEGIN:VEVENT
UID:28@ec-sart.be
DTSTART;TZID=Europe/Brussels;VALUE=DATE:20211002
DTEND;TZID=Europe/Brussels;VALUE=DATE:20211003
DTSTAMP:20180703T162239Z
URL:https://ec-sart.be/evenements/journee-internationale-de-la-non-violenc
 e-2021-10-02/
SUMMARY:Journée internationale de la non-violence
DESCRIPTION:
CATEGORIES:Journée internationale
END:VEVENT
BEGIN:VTIMEZONE
TZID:Europe/Brussels
X-LIC-LOCATION:Europe/Brussels
BEGIN:DAYLIGHT
DTSTART:20210328T030000
TZOFFSETFROM:+0100
TZOFFSETTO:+0200
TZNAME:CEST
END:DAYLIGHT
END:VTIMEZONE
END:VCALENDAR