BEGIN:VCALENDAR
VERSION:2.0
PRODID:-//wp-events-plugin.com//7.2.3.1//EN
TZID:Europe/Brussels
X-WR-TIMEZONE:Europe/Brussels
BEGIN:VEVENT
UID:278@ec-sart.be
DTSTART;TZID=Europe/Brussels;VALUE=DATE:20230630
DTEND;TZID=Europe/Brussels;VALUE=DATE:20230701
DTSTAMP:20230320T095746Z
URL:https://ec-sart.be/evenements/journee-a-la-ferme-de-beauffaux-acc-m1/
SUMMARY:Journée à la Ferme de Beauffaux - Acc + M1
DESCRIPTION:
CATEGORIES:Excursion
END:VEVENT
BEGIN:VTIMEZONE
TZID:Europe/Brussels
X-LIC-LOCATION:Europe/Brussels
BEGIN:DAYLIGHT
DTSTART:20230326T030000
TZOFFSETFROM:+0100
TZOFFSETTO:+0200
TZNAME:CEST
END:DAYLIGHT
END:VTIMEZONE
END:VCALENDAR