BEGIN:VCALENDAR
VERSION:2.0
PRODID:-//wp-events-plugin.com//7.2.3.1//EN
TZID:Europe/Brussels
X-WR-TIMEZONE:Europe/Brussels
BEGIN:VEVENT
UID:127@ec-sart.be
DTSTART;TZID=Europe/Brussels;VALUE=DATE:20220421
DTEND;TZID=Europe/Brussels;VALUE=DATE:20220422
DTSTAMP:20180703T163245Z
URL:https://ec-sart.be/evenements/fete-des-secretaires-2022-04-21/
SUMMARY:Fête des secrétaires
DESCRIPTION:
CATEGORIES:Fête
END:VEVENT
BEGIN:VTIMEZONE
TZID:Europe/Brussels
X-LIC-LOCATION:Europe/Brussels
BEGIN:DAYLIGHT
DTSTART:20220327T030000
TZOFFSETFROM:+0100
TZOFFSETTO:+0200
TZNAME:CEST
END:DAYLIGHT
END:VTIMEZONE
END:VCALENDAR