BEGIN:VCALENDAR
VERSION:2.0
PRODID:-//wp-events-plugin.com//7.2.3.1//EN
TZID:Europe/Brussels
X-WR-TIMEZONE:Europe/Brussels
BEGIN:VEVENT
UID:298@ec-sart.be
DTSTART;TZID=Europe/Brussels:20260311T083000
DTEND;TZID=Europe/Brussels:20260311T100000
DTSTAMP:20251015T095457Z
URL:https://ec-sart.be/evenements/fete-des-grands-parents-accueil-m1-3/
SUMMARY:Fête des Grands-Parents Accueil-M1
DESCRIPTION:Le mercredi 11 mars 2026\, les enfants d'accueil-1ère maternel
 le auront l'immense plaisir d'inviter "papy-mamy" au sein de leur classe.
ATTACH;FMTTYPE=image/jpeg:https://ec-sart.be/wp-content/uploads/2025/10/gr
 ands-parents.jpg
CATEGORIES:Evènement scolaire
LOCATION:Ecole de Sart-Messire-Guillaume\, Rue de l'Arbre de la Justice\, 4
 \, Sart-Messire-Guillaume\, Région Wallonne\, 1490\, Belgique
GEO:50.620887;4.561193000000003
X-APPLE-STRUCTURED-LOCATION;VALUE=URI;X-ADDRESS=Rue de l'Arbre de la Justic
 e\, 4\, Sart-Messire-Guillaume\, Région Wallonne\, 1490\, Belgique;X-APPL
 E-RADIUS=100;X-TITLE=Ecole de Sart-Messire-Guillaume:geo:50.620887,4.56119
 3000000003
END:VEVENT
BEGIN:VTIMEZONE
TZID:Europe/Brussels
X-LIC-LOCATION:Europe/Brussels
BEGIN:STANDARD
DTSTART:20251026T020000
TZOFFSETFROM:+0200
TZOFFSETTO:+0100
TZNAME:CET
END:STANDARD
END:VTIMEZONE
END:VCALENDAR