BEGIN:VCALENDAR
VERSION:2.0
PRODID:-//wp-events-plugin.com//7.2.3.1//EN
TZID:Europe/Brussels
X-WR-TIMEZONE:Europe/Brussels
BEGIN:VEVENT
UID:272@ec-sart.be
DTSTART;TZID=Europe/Brussels;VALUE=DATE:20230520
DTEND;TZID=Europe/Brussels;VALUE=DATE:20230521
DTSTAMP:20221014T073931Z
URL:https://ec-sart.be/evenements/fancy-fair-de-lecole-de-sart-portes-ouve
 rtes-en-matinee/
SUMMARY:Fancy-Fair de l'école de Sart + Portes Ouvertes en matinée
DESCRIPTION:L'école communale fondamentale de Sart-Messire-Guillaume vous 
 invite à sa fancy-fair ce samedi 20 mai 2023 !\nLes portes ouvertes seron
 t organisées en matinée. L'occasion pour vous de découvrir les classes 
 et le quotidien de vos enfants.
CATEGORIES:Animation,Fancy Fair,Fête,Important
LOCATION:Ecole de Sart-Messire-Guillaume\, Rue de l'Arbre de la Justice\, 4
 \, Sart-Messire-Guillaume\, Région Wallonne\, 1490\, Belgique
GEO:50.620887;4.561193000000003
X-APPLE-STRUCTURED-LOCATION;VALUE=URI;X-ADDRESS=Rue de l'Arbre de la Justic
 e\, 4\, Sart-Messire-Guillaume\, Région Wallonne\, 1490\, Belgique;X-APPL
 E-RADIUS=100;X-TITLE=Ecole de Sart-Messire-Guillaume:geo:50.620887,4.56119
 3000000003
END:VEVENT
BEGIN:VTIMEZONE
TZID:Europe/Brussels
X-LIC-LOCATION:Europe/Brussels
BEGIN:DAYLIGHT
DTSTART:20230326T030000
TZOFFSETFROM:+0100
TZOFFSETTO:+0200
TZNAME:CEST
END:DAYLIGHT
END:VTIMEZONE
END:VCALENDAR