BEGIN:VCALENDAR
VERSION:2.0
PRODID:-//wp-events-plugin.com//7.2.3.1//EN
TZID:Europe/Brussels
X-WR-TIMEZONE:Europe/Brussels
BEGIN:VEVENT
UID:304@ec-sart.be
DTSTART;TZID=Europe/Brussels:20260627T110000
DTEND;TZID=Europe/Brussels:20260627T200000
DTSTAMP:20260330T140745Z
URL:https://ec-sart.be/evenements/fancy-fair-3/
SUMMARY:Fancy-Fair (Fancy Fairniente)
DESCRIPTION:Le samedi 27 juin 2026 se déroulera notre "Fancy-Fair" de 11h0
 0 à 20h00.
ATTACH;FMTTYPE=image/jpeg:https://ec-sart.be/wp-content/uploads/2025/10/fa
 ncy-fair.png
CATEGORIES:Fancy Fair
LOCATION:Ecole de Sart-Messire-Guillaume\, Rue de l'Arbre de la Justice\, 4
 \, Sart-Messire-Guillaume\, Région Wallonne\, 1490\, Belgique
GEO:50.620887;4.561193000000003
X-APPLE-STRUCTURED-LOCATION;VALUE=URI;X-ADDRESS=Rue de l'Arbre de la Justic
 e\, 4\, Sart-Messire-Guillaume\, Région Wallonne\, 1490\, Belgique;X-APPL
 E-RADIUS=100;X-TITLE=Ecole de Sart-Messire-Guillaume:geo:50.620887,4.56119
 3000000003
END:VEVENT
BEGIN:VTIMEZONE
TZID:Europe/Brussels
X-LIC-LOCATION:Europe/Brussels
BEGIN:DAYLIGHT
DTSTART:20260329T030000
TZOFFSETFROM:+0100
TZOFFSETTO:+0200
TZNAME:CEST
END:DAYLIGHT
END:VTIMEZONE
END:VCALENDAR