BEGIN:VCALENDAR
VERSION:2.0
PRODID:-//wp-events-plugin.com//7.2.3.1//EN
TZID:Europe/Brussels
X-WR-TIMEZONE:Europe/Brussels
BEGIN:VEVENT
UID:294@ec-sart.be
DTSTART;TZID=Europe/Brussels:20251208T071500
DTEND;TZID=Europe/Brussels:20251208T180000
DTSTAMP:20251015T085742Z
URL:https://ec-sart.be/evenements/conference-pedagogique/
SUMMARY:Conférence pédagogique
DESCRIPTION:Le lundi 8 décembre 2025\, tous les enseignants seront en conf
 érence pédagogique.\n\n&nbsp\;
ATTACH;FMTTYPE=image/jpeg:https://ec-sart.be/wp-content/uploads/2025/10/co
 nference-pedagogique.webp
CATEGORIES:Conférence pédagogique
END:VEVENT
BEGIN:VTIMEZONE
TZID:Europe/Brussels
X-LIC-LOCATION:Europe/Brussels
BEGIN:STANDARD
DTSTART:20251026T020000
TZOFFSETFROM:+0200
TZOFFSETTO:+0100
TZNAME:CET
END:STANDARD
END:VTIMEZONE
END:VCALENDAR