BEGIN:VCALENDAR
VERSION:2.0
PRODID:-//wp-events-plugin.com//7.2.3.1//EN
TZID:Europe/Brussels
X-WR-TIMEZONE:Europe/Brussels
BEGIN:VEVENT
UID:239@ec-sart.be
DTSTART;TZID=Europe/Brussels;VALUE=DATE:20201124
DTEND;TZID=Europe/Brussels;VALUE=DATE:20201125
DTSTAMP:20201009T121805Z
URL:https://ec-sart.be/evenements/conference-pedagogique-uniquement-pour-l
 e-maternel/
SUMMARY:Conférence pédagogique - UNIQUEMENT POUR LE MATERNEL
DESCRIPTION:Chers Parents\,\n\nLe mardi 24 novembre 2020 se déroulera la c
 onférence pédagogique uniquement pour le maternel.\n\nUne garderie est o
 rganisée uniquement si les 2 parents travaillent.\n\nPour ceux qui étaie
 nt inscrits au repas chauds\, veuillez prévoir des tartines si votre enfa
 nt sera présent à la garderie.\n\n&nbsp\;
CATEGORIES:Conférence pédagogique
LOCATION:Ecole de Sart-Messire-Guillaume\, Rue de l'Arbre de la Justice\, 4
 \, Sart-Messire-Guillaume\, Région Wallonne\, 1490\, Belgique
GEO:50.620887;4.561193000000003
X-APPLE-STRUCTURED-LOCATION;VALUE=URI;X-ADDRESS=Rue de l'Arbre de la Justic
 e\, 4\, Sart-Messire-Guillaume\, Région Wallonne\, 1490\, Belgique;X-APPL
 E-RADIUS=100;X-TITLE=Ecole de Sart-Messire-Guillaume:geo:50.620887,4.56119
 3000000003
END:VEVENT
BEGIN:VTIMEZONE
TZID:Europe/Brussels
X-LIC-LOCATION:Europe/Brussels
BEGIN:STANDARD
DTSTART:20201025T020000
TZOFFSETFROM:+0200
TZOFFSETTO:+0100
TZNAME:CET
END:STANDARD
END:VTIMEZONE
END:VCALENDAR