BEGIN:VCALENDAR
VERSION:2.0
PRODID:-//wp-events-plugin.com//7.2.3.1//EN
TZID:Europe/Brussels
X-WR-TIMEZONE:Europe/Brussels
BEGIN:VEVENT
UID:275@ec-sart.be
DTSTART;TZID=Europe/Brussels:20230707T082500
DTEND;TZID=Europe/Brussels:20230707T152000
DTSTAMP:20230320T094924Z
URL:https://ec-sart.be/evenements/conference-pedagogique-maternelles-et-pr
 imaires-2/
SUMMARY:Conférence pédagogique - Maternelles et Primaires
DESCRIPTION:
CATEGORIES:Conférence pédagogique
END:VEVENT
BEGIN:VTIMEZONE
TZID:Europe/Brussels
X-LIC-LOCATION:Europe/Brussels
BEGIN:DAYLIGHT
DTSTART:20230326T030000
TZOFFSETFROM:+0100
TZOFFSETTO:+0200
TZNAME:CEST
END:DAYLIGHT
END:VTIMEZONE
END:VCALENDAR