BEGIN:VCALENDAR
VERSION:2.0
PRODID:-//wp-events-plugin.com//7.2.3.1//EN
TZID:Europe/Brussels
X-WR-TIMEZONE:Europe/Brussels
BEGIN:VEVENT
UID:242@ec-sart.be
DTSTART;TZID=Europe/Brussels;VALUE=DATE:20210118
DTEND;TZID=Europe/Brussels;VALUE=DATE:20210126
DTSTAMP:20201012T071540Z
URL:https://ec-sart.be/evenements/classes-de-neige-5emes-et-6emes-primaire
 s/
SUMMARY:Classes de neige 5èmes et 6èmes primaires
DESCRIPTION:
CATEGORIES:Classes de dépaysement
LOCATION:Ecole de Sart-Messire-Guillaume\, Rue de l'Arbre de la Justice\, 4
 \, Sart-Messire-Guillaume\, Région Wallonne\, 1490\, Belgique
GEO:50.620887;4.561193000000003
X-APPLE-STRUCTURED-LOCATION;VALUE=URI;X-ADDRESS=Rue de l'Arbre de la Justic
 e\, 4\, Sart-Messire-Guillaume\, Région Wallonne\, 1490\, Belgique;X-APPL
 E-RADIUS=100;X-TITLE=Ecole de Sart-Messire-Guillaume:geo:50.620887,4.56119
 3000000003
END:VEVENT
BEGIN:VTIMEZONE
TZID:Europe/Brussels
X-LIC-LOCATION:Europe/Brussels
BEGIN:STANDARD
DTSTART:20201025T020000
TZOFFSETFROM:+0200
TZOFFSETTO:+0100
TZNAME:CET
END:STANDARD
END:VTIMEZONE
END:VCALENDAR