BEGIN:VCALENDAR
VERSION:2.0
PRODID:-//wp-events-plugin.com//7.2.3.1//EN
TZID:Europe/Brussels
X-WR-TIMEZONE:Europe/Brussels
BEGIN:VEVENT
UID:301@ec-sart.be
DTSTART;TZID=Europe/Brussels:20260526T083000
DTEND;TZID=Europe/Brussels:20260529T160000
DTSTAMP:20251015T093654Z
URL:https://ec-sart.be/evenements/classes-de-mer-p6/
SUMMARY:Classes de mer - P6
DESCRIPTION:Du mardi 26 mai au vendredi 29 mai 2026\, les élèves de 6ème
  primaire seront en "classes de mer".
ATTACH;FMTTYPE=image/jpeg:https://ec-sart.be/wp-content/uploads/2025/10/cl
 asses-de-mer.jpg
CATEGORIES:Classes de dépaysement
END:VEVENT
BEGIN:VTIMEZONE
TZID:Europe/Brussels
X-LIC-LOCATION:Europe/Brussels
BEGIN:DAYLIGHT
DTSTART:20260329T030000
TZOFFSETFROM:+0100
TZOFFSETTO:+0200
TZNAME:CEST
END:DAYLIGHT
END:VTIMEZONE
END:VCALENDAR