BEGIN:VCALENDAR
VERSION:2.0
PRODID:-//wp-events-plugin.com//7.2.3.1//EN
TZID:Europe/Brussels
X-WR-TIMEZONE:Europe/Brussels
BEGIN:VEVENT
UID:276@ec-sart.be
DTSTART;TZID=Europe/Brussels;VALUE=DATE:20230522
DTEND;TZID=Europe/Brussels;VALUE=DATE:20230527
DTSTAMP:20230320T095359Z
URL:https://ec-sart.be/evenements/classes-de-mer-1e-primaire/
SUMMARY:Classes de mer - P1
DESCRIPTION:
CATEGORIES:Classes de dépaysement
END:VEVENT
BEGIN:VTIMEZONE
TZID:Europe/Brussels
X-LIC-LOCATION:Europe/Brussels
BEGIN:DAYLIGHT
DTSTART:20230326T030000
TZOFFSETFROM:+0100
TZOFFSETTO:+0200
TZNAME:CEST
END:DAYLIGHT
END:VTIMEZONE
END:VCALENDAR