BEGIN:VCALENDAR
VERSION:2.0
PRODID:-//wp-events-plugin.com//7.2.3.1//EN
TZID:Europe/Brussels
X-WR-TIMEZONE:Europe/Brussels
BEGIN:VEVENT
UID:285@ec-sart.be
DTSTART;TZID=Europe/Brussels;VALUE=DATE:20230626
DTEND;TZID=Europe/Brussels;VALUE=DATE:20230701
DTSTAMP:20230320T102427Z
URL:https://ec-sart.be/evenements/ceb-p6/
SUMMARY:CEB - P6
DESCRIPTION:
CATEGORIES:CEB
END:VEVENT
BEGIN:VTIMEZONE
TZID:Europe/Brussels
X-LIC-LOCATION:Europe/Brussels
BEGIN:DAYLIGHT
DTSTART:20230326T030000
TZOFFSETFROM:+0100
TZOFFSETTO:+0200
TZNAME:CEST
END:DAYLIGHT
END:VTIMEZONE
END:VCALENDAR