BEGIN:VCALENDAR
VERSION:2.0
PRODID:-//wp-events-plugin.com//7.2.3.1//EN
TZID:Europe/Brussels
X-WR-TIMEZONE:Europe/Brussels
BEGIN:VEVENT
UID:175@ec-sart.be
DTSTART;TZID=Europe/Brussels;VALUE=DATE:20181112
DTEND;TZID=Europe/Brussels;VALUE=DATE:20181117
DTSTAMP:20180903T140246Z
URL:https://ec-sart.be/evenements/1e-remise-des-bulletins-avec-reunion-de-
 parents/
SUMMARY:1e remise des bulletins avec réunion de parents
DESCRIPTION:
CATEGORIES:Bulletins
END:VEVENT
BEGIN:VTIMEZONE
TZID:Europe/Brussels
X-LIC-LOCATION:Europe/Brussels
BEGIN:STANDARD
DTSTART:20181028T020000
TZOFFSETFROM:+0200
TZOFFSETTO:+0100
TZNAME:CET
END:STANDARD
END:VTIMEZONE
END:VCALENDAR